BEGIN:VCALENDAR
PRODID:-//hacksw/handcal//NONSGML v1.0//EN
VERSION:2.0
METHOD:PUBLISH
BEGIN:VEVENT
DTSTART:20251203T223000Z
DTEND:20251204T013000Z
LOCATION:50 Vanderbilt Motor Parkway, Commack New York
UID:2880520251203T223000ZHoliday Reception Hosted by The New York Community Trust
DTSTAMP:20260425T173713Z
DESCRIPTION:\nJoin us as we Toast the Holiday Season! \n \nEnjoy an evening of live entertainment, cocktails, and lite bites, \n \nHosted by our Sponsor- New York Community Trust.\n \nThere is no charge for this event.\n \nQualified Guests are Welcome! A qualified guest is someone who qualifies as a member (see bylaws on website, e.g., a practicing T & E attorney, CPA, financial advisor, trust professional) who is interested in joining our Council. \n \nKindly RSVP by 11/26/25\n
SUMMARY:Holiday Reception Hosted by The New York Community Trust - Estate Planning Council of Long Island 
PRIORITY:3
BEGIN:VALARM
TRIGGER:PT18H
ACTION:DISPLAY
DESCRIPTION:Reminder
END:VALARM
END:VEVENT
END:VCALENDAR