BEGIN:VCALENDAR
PRODID:-//hacksw/handcal//NONSGML v1.0//EN
VERSION:2.0
METHOD:PUBLISH
BEGIN:VEVENT
DTSTART:20260212T133000Z
DTEND:20260212T143000Z
LOCATION:ZOOM
UID:2875520260212T133000ZZOOM Meeting- "Highlights of 2026 Heckerling Institute on Estate Planning”
DTSTAMP:20260425T174349Z
DESCRIPTION:\nJoin from PC, Mac, iPad, or Android:\n \nUse this link: [https://us02web.zoom.us/j/84751115998](https://na01.safelinks.protection.outlook.com/?url=https%3A%2F%2Fus02web.zoom.us%2Fj%2F84751115998&data=05%7C02%7C%7C7b5f70a3a33f41a2962e08de69a60653%7C84df9e7fe9f640afb435aaaaaaaaaaaa%7C1%7C0%7C639064358968436756%7CUnknown%7CTWFpbGZsb3d8eyJFbXB0eU1hcGkiOnRydWUsIlYiOiIwLjAuMDAwMCIsIlAiOiJXaW4zMiIsIkFOIjoiTWFpbCIsIldUIjoyfQ%3D%3D%7C0%7C%7C%7C&sdata=0QE3E1jT5Az%2FQvQ4e2KvOFt%2FJJPMQhnYKU2nd%2B%2FHHdo%3D&reserved=0)\n \nIf you cannot access the link, the webinar ID to enter manually is 847 5111 5998\n \n***We are looking forward to our Zoom meeting on TODAY, Thursday, \n \nFebruary 12, at 8:30 a.m. The Zoom connection will open at 8:15 a.m. The meeting will begin at 8:30 a.m.***\n \nIf you are seeking credit, please remember the following:\n \na. Late-comers and early-leavers will not qualify to receive CE credit for their discipline(s).\n \nb. In order to receive CE credit for your discipline(s), you must submit the evaluation sheet and affirmation sheet to kathy.greco@rivkin.com as evidence that you were present for the entire presentation. Be sure to print your name at the bottom of the evaluation.\n \nThe attendance affirmation form and evaluation form are attached to the meeting notice. They are also listed on the website's Document Page. We will provide a program verification code at the end of the meeting which needs to be inserted on the attendance affirmation form before returning it to Kathy Greco from Rivkin Radler: kathy.greco@rivkin.com\n \nThank you.\n \nJoseph T. La Ferlita, Esq.\n \nVice President/ Speakers Chair\n \n \n
SUMMARY:ZOOM Meeting- "Highlights of 2026 Heckerling Institute on Estate Planning” - Estate Planning Council of Long Island 
PRIORITY:3
BEGIN:VALARM
TRIGGER:PT18H
ACTION:DISPLAY
DESCRIPTION:Reminder
END:VALARM
END:VEVENT
END:VCALENDAR