BEGIN:VCALENDAR
PRODID:-//hacksw/handcal//NONSGML v1.0//EN
VERSION:2.0
METHOD:PUBLISH
BEGIN:VEVENT
DTSTART:20260226T133000Z
DTEND:20260226T143000Z
LOCATION:ZOOM
UID:2869420260226T133000ZZOOM- “Lawyers, Financial Professionals and Mental Health Concerns: Making the Case for Change”
DTSTAMP:20260425T174221Z
DESCRIPTION:\nPLEASE BE ADVISED THAT THIS MEETING IS NOW \n \nA ZOOM MEETING.\n
SUMMARY:ZOOM- “Lawyers, Financial Professionals and Mental Health Concerns: Making the Case for Change” - Estate Planning Council of Long Island 
PRIORITY:3
BEGIN:VALARM
TRIGGER:PT18H
ACTION:DISPLAY
DESCRIPTION:Reminder
END:VALARM
END:VEVENT
END:VCALENDAR