BEGIN:VCALENDAR
PRODID:-//hacksw/handcal//NONSGML v1.0//EN
VERSION:2.0
METHOD:PUBLISH
BEGIN:VEVENT
DTSTART:20260108T223000Z
DTEND:20260109T010000Z
LOCATION:The Paramount- 370 New York Ave, Huntington, NY 11743 
UID:2858720260108T223000ZPost Holiday Cocktail Party
DTSTAMP:20260425T173359Z
DESCRIPTION:
SUMMARY:Post Holiday Cocktail Party - Estate Planning Council of Long Island 
PRIORITY:3
BEGIN:VALARM
TRIGGER:PT18H
ACTION:DISPLAY
DESCRIPTION:Reminder
END:VALARM
END:VEVENT
END:VCALENDAR