BEGIN:VCALENDAR
PRODID:-//hacksw/handcal//NONSGML v1.0//EN
VERSION:2.0
METHOD:PUBLISH
BEGIN:VEVENT
DTSTART:20251112T200000Z
DTEND:20251112T210000Z
LOCATION:ZOOM
UID:2826920251112T200000ZSTUDY GROUP/NAEPC Live Webinar- "What Every Estate Planner Needs to Know About Spotting Red Flags of Elder Financial Exploitation; and What To Do When Recognizing Those Signs"
DTSTAMP:20260425T174527Z
DESCRIPTION:\nRetired Deputy District Attorney Paul Greenwood was a solicitor in England for 13 years. After relocating to San Diego in 1991 he passed the California Bar and joined the DA's office in 1993. For twenty two years Paul headed up the Elder Abuse Prosecution Unit at the San Diego DA’s Office. In 1999 California Lawyer magazine named Paul as one of their top 20 lawyers of the year in recognition of his pioneering efforts to pursue justice on behalf of senior citizens. He has prosecuted over 750 felony cases of both physical, sexual, emotional and financial elder abuse. He has also prosecuted ten murder cases, including one death penalty case.\n \n \n \nIn March 2018 Paul retired from the San Diego DA’s office to concentrate on sharing lessons learned from his elder abuse prosecutions with a wider audience. In October 2018 he was given a lifetime achievement award by his former office. Paul now spends much of his post retirement time speaking on behalf of AARP nationally, consulting on elder abuse cases, testifying as an expert witness and providing trainings to law enforcement and Adult Protective Services agencies across the country and internationally. He is also involved as the criminal justice board member of National Adult Protective Services Association.\n \n \n \nRegister Here:  https://naepc.tradewing.com/events/poMmmgzbcfvDjqbtA\n \nWHEN REGISTERING FOR THIS COMPLIMENTARY WEBINAR YOU WILL BE ASKED TO CREATE A TRADEWING ACCOUNT. PLEASE CLICK THE RSVP BUTTON AND THEN "SIGN UP" IN THE POP UP WINDOW THAT APPEARS.\n \n \n \n \n
SUMMARY:STUDY GROUP/NAEPC Live Webinar- "What Every Estate Planner Needs to Know About Spotting Red Flags of Elder Financial Exploitation; and What To Do When Recognizing Those Signs" - Estate Planning Council of Long Island 
PRIORITY:3
BEGIN:VALARM
TRIGGER:PT18H
ACTION:DISPLAY
DESCRIPTION:Reminder
END:VALARM
END:VEVENT
END:VCALENDAR