BEGIN:VCALENDAR
PRODID:-//hacksw/handcal//NONSGML v1.0//EN
VERSION:2.0
METHOD:PUBLISH
BEGIN:VEVENT
DTSTART:20250910T190000Z
DTEND:20250910T200000Z
LOCATION:ZOOM
UID:2826820250910T190000ZSTUDY GROUP/NAEPC Live Webinar- "One Big Beautiful Bill, One Big Estate Planning Reboot"
DTSTAMP:20260425T173348Z
DESCRIPTION:\nJonathan G. Blattmachr is Director of Estate Planning for Peak Trust Company (formerly Alaska Trust Company) and a Director/Principal of Pioneer Wealth Partners, LLC in a boutique wealth advisory firm located in Chicago and New York. He is a Principal at Interactive Legal Services Management, LLC, serving as its Editor-in-Chief and Co-Author of its cornerstone products, Wealth Transfer Planning™ and Elder Law Planning™ and a retired member of Milbank (formerly Milbank Tweed Hadley & McCloy LLP) and of the New York, Alaska and California bars. He is recognized as one of the most creative trusts and estates lawyers in the country and is listed in the Best Lawyers in America.\n \nHe graduated from Columbia University School of Law, cum laude, where he was recognized as a Harlan Fiske Stone Scholar. He has written and lectured extensively on estate and trust taxation and charitable giving and is author or co-author of nine books and more than 500 articles on estate planning and tax topics. Jonathan was on active duty in the US Army from 1970 to 1972, rising to the rank of Captain and was awarded the Army Commendation Medal. He is an instrument rated land and seaplane pilot and a licensed hunting and fishing guide in the Town of Southampton, New York.\n   \nRegister Here:  https://naepc.tradewing.com/events/Ry5EwzZ58ghZ2hvpf\n \nWHEN REGISTERING FOR THIS COMPLIMENTARY WEBINAR YOU WILL BE ASKED TO CREATE A TRADEWING ACCOUNT. PLEASE CLICK THE RSVP BUTTON AND THEN "SIGN UP" IN THE POP UP WINDOW THAT APPEARS.\n
SUMMARY:STUDY GROUP/NAEPC Live Webinar- "One Big Beautiful Bill, One Big Estate Planning Reboot" - Estate Planning Council of Long Island 
PRIORITY:3
BEGIN:VALARM
TRIGGER:PT18H
ACTION:DISPLAY
DESCRIPTION:Reminder
END:VALARM
END:VEVENT
END:VCALENDAR