BEGIN:VCALENDAR
PRODID:-//hacksw/handcal//NONSGML v1.0//EN
VERSION:2.0
METHOD:PUBLISH
BEGIN:VEVENT
DTSTART:20250813T190000Z
DTEND:20250813T200000Z
LOCATION:ZOOM
UID:2813620250813T190000ZSTUDY GROUP/Webinar- "Tax Smart Charitable Giving, Especially with Retirement Assets"
DTSTAMP:20260425T174432Z
DESCRIPTION:\nLive Webinar Date:  Wednesday, August 13, 2025\n \nTime: 3:00pm - 4:00pm\n \nTopic: Tax Smart Charitable Giving, Especially with Retirement Assets\n \nSpeaker: Christopher R. Hoyt, JD, AEP® (Distinguished)\n \nDetails: In this intermediate program, Professor Hoyt will explain the changes that The One Big Beautiful Bill Act of 2025 made to the tax laws governing charitable gifts, and their impact on gift-planning strategies. He will also review the strategies that became popular when the 2017 Tax Cuts and Jobs Act made it harder to itemize tax deductions, including "bunching" gifts and using donor advised funds. Finally he will review the highly-advantageous benefits from making qualified charitable distributions (QCDs) from IRAs, including the ability of IRA donors to receive a charitable gift annuity in exchange for their IRA gift.\n \nChristopher Hoyt is a Professor of Law at the University of Missouri (Kansas City) School of Law where he teaches courses in the area of federal income taxation, charitable organizations and retirement plans. Professor Hoyt has served as the Vice-Chair of the RPTE Charitable Group of the American Bar Association and he serves on the editorial board of Trusts and Estates magazine. He is an Academic Fellow at the American College of Trust and Estate Counsel (ACTEC).\n   \nRegister Here:  https://naepc.tradewing.com/events/rMeE3hKHwADhJ3yMi\n \nWHEN REGISTERING FOR THIS COMPLIMENTARY WEBINAR YOU WILL BE ASKED TO CREATE A TRADEWING ACCOUNT. PLEASE CLICK THE RSVP BUTTON AND THEN "SIGN UP" IN THE POP UP WINDOW THAT APPEARS.\n \nAny questions, please contact our Committee Chairperson:\n \nChristina Jonathan\n \ncjonathan@jaspanllp.com\n \n(516) 393-8267\n
SUMMARY:STUDY GROUP/Webinar- "Tax Smart Charitable Giving, Especially with Retirement Assets" - Estate Planning Council of Long Island 
PRIORITY:3
BEGIN:VALARM
TRIGGER:PT18H
ACTION:DISPLAY
DESCRIPTION:Reminder
END:VALARM
END:VEVENT
END:VCALENDAR