BEGIN:VCALENDAR
PRODID:-//hacksw/handcal//NONSGML v1.0//EN
VERSION:2.0
METHOD:PUBLISH
BEGIN:VEVENT
DTSTART:20260122T223000Z
DTEND:20260123T020000Z
LOCATION:Volpe at Fox Hollow- Woodbury, NY
UID:2787820260122T223000ZDinner Meeting- “Don’t Lien On Me: A Primer on IRS & NYS Tax and Estate Tax Liens”.
DTSTAMP:20260425T174545Z
DESCRIPTION:
SUMMARY:Dinner Meeting- “Don’t Lien On Me: A Primer on IRS & NYS Tax and Estate Tax Liens”. - Estate Planning Council of Long Island 
PRIORITY:3
BEGIN:VALARM
TRIGGER:PT18H
ACTION:DISPLAY
DESCRIPTION:Reminder
END:VALARM
END:VEVENT
END:VCALENDAR