BEGIN:VCALENDAR
PRODID:-//hacksw/handcal//NONSGML v1.0//EN
VERSION:2.0
METHOD:PUBLISH
BEGIN:VEVENT
DTSTART:20251016T120000Z
DTEND:20251016T140000Z
LOCATION:The Bristal Garden City- 1001 Axinn Ave, Garden City NY 11530
UID:2787720251016T120000ZBreakfast Meeting- "Where Good Estate Planning Equals Poor Elder Care Planning AND a Medicaid Update"
DTSTAMP:20260425T174646Z
DESCRIPTION:
SUMMARY:Breakfast Meeting- "Where Good Estate Planning Equals Poor Elder Care Planning AND a Medicaid Update" - Estate Planning Council of Long Island 
PRIORITY:3
BEGIN:VALARM
TRIGGER:PT18H
ACTION:DISPLAY
DESCRIPTION:Reminder
END:VALARM
END:VEVENT
END:VCALENDAR