BEGIN:VCALENDAR
PRODID:-//hacksw/handcal//NONSGML v1.0//EN
VERSION:2.0
METHOD:PUBLISH
BEGIN:VEVENT
DTSTART:20251120T223000Z
DTEND:20251121T020000Z
LOCATION:One10, 569 Broadhollow Rd, Melville, NY 11747 
UID:2787620251120T223000ZDinner Meeting- "The Last Chapter: Supporting Clients  Through End-of-Life Planning.  How to  Help Families Prepare with Compassion &  Clarity"
DTSTAMP:20260425T173533Z
DESCRIPTION:
SUMMARY:Dinner Meeting- "The Last Chapter: Supporting Clients  Through End-of-Life Planning.  How to  Help Families Prepare with Compassion &  Clarity" - Estate Planning Council of Long Island 
PRIORITY:3
BEGIN:VALARM
TRIGGER:PT18H
ACTION:DISPLAY
DESCRIPTION:Reminder
END:VALARM
END:VEVENT
END:VCALENDAR