BEGIN:VCALENDAR
PRODID:-//hacksw/handcal//NONSGML v1.0//EN
VERSION:2.0
METHOD:PUBLISH
BEGIN:VEVENT
DTSTART:20251218T130000Z
DTEND:20251218T150000Z
LOCATION:The Bristal Assisted Living- 117 Post Avenue Westbury, NY 11590
UID:2787520251218T130000ZBreakfast Meeting- “Protect Yourself or Your Client as a Fiduciary – From a Practical and Litigation Perspective”
DTSTAMP:20260425T173708Z
DESCRIPTION:\n[](https://www.islandharvest.org/)\n \n“Government funding for food pantries has greatly diminished this year. Within our Long Island Communities there are over 287,000 residents who are considered Food Insecure with over 58,000 of them estimated to be children. Among them are the elderly and U.S. veterans.\n \nThe Estate Planning Council of Long Island is responding to this crisis and collecting non-perishable food for Island Harvest  Food Bank of Long Island at our December 18th breakfast meeting.  Please consider bringing something to help feed a family in need."\n \n \n \nBoard of Directors- Estate Planning Council of Long Island\n \n Link: Island Harvest [Island Harvest Food Bank Serving Long Island NY](https://na01.safelinks.protection.outlook.com/?url=https%3A%2F%2Fwww.islandharvest.org%2F&data=05%7C02%7C%7Cb58edac2f91d471625aa08dd7c5b2809%7C84df9e7fe9f640afb435aaaaaaaaaaaa%7C1%7C0%7C638803453137879579%7CUnknown%7CTWFpbGZsb3d8eyJFbXB0eU1hcGkiOnRydWUsIlYiOiIwLjAuMDAwMCIsIlAiOiJXaW4zMiIsIkFOIjoiTWFpbCIsIldUIjoyfQ%3D%3D%7C0%7C%7C%7C&sdata=Pg4klne4DtCACoYeHZ1Rlo90VqXpI64bGUstsDyQR2c%3D&reserved=0)  \n \n \n
SUMMARY:Breakfast Meeting- “Protect Yourself or Your Client as a Fiduciary – From a Practical and Litigation Perspective” - Estate Planning Council of Long Island 
PRIORITY:3
BEGIN:VALARM
TRIGGER:PT18H
ACTION:DISPLAY
DESCRIPTION:Reminder
END:VALARM
END:VEVENT
END:VCALENDAR