BEGIN:VCALENDAR
PRODID:-//hacksw/handcal//NONSGML v1.0//EN
VERSION:2.0
METHOD:PUBLISH
BEGIN:VEVENT
DTSTART:20250916T213000Z
DTEND:20250917T000000Z
LOCATION:Volpe at Fox Hollow- Woodbury, NY
UID:2787420250916T213000ZKick-Off Dinner Meeting- Federal Tax Update
DTSTAMP:20260425T174118Z
DESCRIPTION:\nPLEASE NOTE: This Meeting is on TUESDAY, Sept. 16th.\n \n \n \n*BRING 1 (ONE) PROSPECTIVE MEMBER FOR FREE!\n \n(for this meeting only)\n \n*We are waiving the normal $75 guest charge for any “qualified guest” of a Member. A qualified guest is someone who qualifies as a member (see bylaws on website, e.g., a practicing T & E attorney, CPA, financial advisor, trust professional) who is interested in joining our Council.\n
SUMMARY:Kick-Off Dinner Meeting- Federal Tax Update - Estate Planning Council of Long Island 
PRIORITY:3
BEGIN:VALARM
TRIGGER:PT18H
ACTION:DISPLAY
DESCRIPTION:Reminder
END:VALARM
END:VEVENT
END:VCALENDAR