BEGIN:VCALENDAR
PRODID:-//hacksw/handcal//NONSGML v1.0//EN
VERSION:2.0
METHOD:PUBLISH
BEGIN:VEVENT
DTSTART:20250506T160000Z
DTEND:20250506T170000Z
LOCATION:
UID:2768720250506T160000ZSTUDY GROUP/Webinar- "Reshaping Buy-Sell Planning after Connelly: Legal and Practical Considerations"
DTSTAMP:20260425T172012Z
DESCRIPTION:\n \n \nPLEASE NOTE: \n \nFor This Webinar CFP AND CPE CREDIT IS AVAILABLE FOR A COST OF $5, DIRECTLY THROUGH NAEPC\n \nNAEPC is now offering complementary webinars through Tradewing. You can register for each Study Group/Webinar using the Register Now link found in each event listing on the NAEPC Webinars page:\n \n[https://www.naepc.org/events/webinar](https://na01.safelinks.protection.outlook.com/?url=https%3A%2F%2Fwww.naepc.org%2Fevents%2Fwebinar&data=05%7C02%7C%7C147b0ac7984448c756d108dd3634b599%7C84df9e7fe9f640afb435aaaaaaaaaaaa%7C1%7C0%7C638726322198813635%7CUnknown%7CTWFpbGZsb3d8eyJFbXB0eU1hcGkiOnRydWUsIlYiOiIwLjAuMDAwMCIsIlAiOiJXaW4zMiIsIkFOIjoiTWFpbCIsIldUIjoyfQ%3D%3D%7C0%7C%7C%7C&sdata=MAOtoO3gbSfmQ8cLuhnwQ%2FDM%2BopnXx98YZvfOMvtUCM%3D&reserved=0).\n \nIf you are unable to participate during the live presentation, a link to the recording will be available on the Tradewing platform. You will need to have a Tradewing account to access these recordings.\n \nKindly note, a link to recording will be available on the Tradewing platform, which you may access at your convenience.\n \nWe will provide further information on how to access the archived webinars, once this information is available.\n
SUMMARY:STUDY GROUP/Webinar- "Reshaping Buy-Sell Planning after Connelly: Legal and Practical Considerations" - Estate Planning Council of Long Island 
PRIORITY:3
BEGIN:VALARM
TRIGGER:PT18H
ACTION:DISPLAY
DESCRIPTION:Reminder
END:VALARM
END:VEVENT
END:VCALENDAR