BEGIN:VCALENDAR
PRODID:-//hacksw/handcal//NONSGML v1.0//EN
VERSION:2.0
METHOD:PUBLISH
BEGIN:VEVENT
DTSTART:20250312T190000Z
DTEND:20250312T200000Z
LOCATION:Virtual
UID:2746520250312T190000ZStudy Group/Webinar- 'Adequate Disclosure on Gift Tax Returns Form 709"
DTSTAMP:20260425T173505Z
DESCRIPTION:\nKyle Martin will be speaking about the need for Adequate Disclosure on Gift Tax Returns filed since 1997. The concern is that many tax return preparers are still unaware of the law passed as part of the 1997 Tax Act and only file returns which lack the required information. When this happens, the 3 Year Statute of Limitations does not begin to run and these tax returns can be opened years later. Kyle will demonstrate the check list for return preparers and appraisers to use. Kyle will also review pitfalls with filing both Estate and Gift Tax returns: Form 706 and Form 709.\n \nRegister Here:\n \nhttps://naepc.tradewing.com/events/KYhEXPy4YXAaTSZXs\n \nWHEN REGISTERING FOR THIS COMPLIMENTARY WEBINAR YOU WILL BE ASKED TO CREATE A TRADEWING ACCOUNT. PLEASE CLICK THE RSVP BUTTON AND THEN "SIGN UP" IN THE POP UP WINDOW THAT APPEARS\n \nAny questions, please contact our Committee Chairperson:\n \nChristina Jonathan\n \ncjonathan@jaspanllp.com\n \n(516) 393-8267\n
SUMMARY:Study Group/Webinar- 'Adequate Disclosure on Gift Tax Returns Form 709" - Estate Planning Council of Long Island 
PRIORITY:3
BEGIN:VALARM
TRIGGER:PT18H
ACTION:DISPLAY
DESCRIPTION:Reminder
END:VALARM
END:VEVENT
END:VCALENDAR