BEGIN:VCALENDAR
PRODID:-//hacksw/handcal//NONSGML v1.0//EN
VERSION:2.0
METHOD:PUBLISH
BEGIN:VEVENT
DTSTART:20250206T223000Z
DTEND:20250207T013000Z
LOCATION:The Paramount-370 New York Avenue, Huntington Village-(631) 673-7300
UID:2734620250206T223000ZSocial Reception @ The Paramount
DTSTAMP:20260425T173810Z
DESCRIPTION:\n This social event is free to all Members. We encourage you to bring (1) guest who would qualify for membership under our By-Laws. There is no cost for a qualified prospective member. \n \nYou MUST RSVP by (January 30th) to gain admittance to the club.\n \nVisit: [www.epclongisland.org](http://www.epclongisland.org/)\n \nSee the link for directions \n \n \n
SUMMARY:Social Reception @ The Paramount - Estate Planning Council of Long Island 
PRIORITY:3
BEGIN:VALARM
TRIGGER:PT18H
ACTION:DISPLAY
DESCRIPTION:Reminder
END:VALARM
END:VEVENT
END:VCALENDAR