BEGIN:VCALENDAR
PRODID:-//hacksw/handcal//NONSGML v1.0//EN
VERSION:2.0
METHOD:PUBLISH
BEGIN:VEVENT
DTSTART:20241217T223000Z
DTEND:20241217T233000Z
LOCATION:Webinar
UID:2692520241217T223000ZStudy Group-Webinar- "Hot Tax, Social Security, & Medicare Saving Ideas in Today’s Environment (101 Tax Savings Ideas)"
DTSTAMP:20260425T174454Z
DESCRIPTION:\n \n \nLink: [https://vimeo.com/1038567531?ts=0&share=copy](https://na01.safelinks.protection.outlook.com/?url=https%3A%2F%2Fvimeo.com%2F1038567531%3Fts%3D0%26share%3Dcopy&data=05%7C02%7C%7C28530a6d0de24dcef8df08dd1ad952e8%7C84df9e7fe9f640afb435aaaaaaaaaaaa%7C1%7C0%7C638696243962280306%7CUnknown%7CTWFpbGZsb3d8eyJFbXB0eU1hcGkiOnRydWUsIlYiOiIwLjAuMDAwMCIsIlAiOiJXaW4zMiIsIkFOIjoiTWFpbCIsIldUIjoyfQ%3D%3D%7C0%7C%7C%7C&sdata=IlfvuQB4XbObnfBfrvHpmDRMWiGvayvQO3nNPJ1kUCg%3D&reserved=0)\n \nPassword:  RjgW1211SMs\n \n \n \nAny questions, please contact our Committee Chairperson:\n \nChristina Jonathan\n \ncjonathan@jaspanllp.com\n \n(516) 393-8267\n
SUMMARY:Study Group-Webinar- "Hot Tax, Social Security, & Medicare Saving Ideas in Today’s Environment (101 Tax Savings Ideas)" - Estate Planning Council of Long Island 
PRIORITY:3
BEGIN:VALARM
TRIGGER:PT18H
ACTION:DISPLAY
DESCRIPTION:Reminder
END:VALARM
END:VEVENT
END:VCALENDAR