BEGIN:VCALENDAR
PRODID:-//hacksw/handcal//NONSGML v1.0//EN
VERSION:2.0
METHOD:PUBLISH
BEGIN:VEVENT
DTSTART:20241121T223000Z
DTEND:20241122T010000Z
LOCATION:Blackstone Steakhouse- 10 Pinelawn Road, Melville, NY 11747
UID:2607020241121T223000ZDinner Meeting- "Sunsetting of Estate Tax Exemption"
DTSTAMP:20260425T174619Z
DESCRIPTION:
SUMMARY:Dinner Meeting- "Sunsetting of Estate Tax Exemption" - Estate Planning Council of Long Island 
PRIORITY:3
BEGIN:VALARM
TRIGGER:PT18H
ACTION:DISPLAY
DESCRIPTION:Reminder
END:VALARM
END:VEVENT
END:VCALENDAR