BEGIN:VCALENDAR
PRODID:-//hacksw/handcal//NONSGML v1.0//EN
VERSION:2.0
METHOD:PUBLISH
BEGIN:VEVENT
DTSTART:20250320T213000Z
DTEND:20250321T000000Z
LOCATION:Volpe at Fox Hollow-7725 Jericho Tpke.- Woodbury, NY 11797
UID:2606820250320T213000ZDinner Meeting- "Planning for Foreign Clients"
DTSTAMP:20260425T173729Z
DESCRIPTION:
SUMMARY:Dinner Meeting- "Planning for Foreign Clients" - Estate Planning Council of Long Island 
PRIORITY:3
BEGIN:VALARM
TRIGGER:PT18H
ACTION:DISPLAY
DESCRIPTION:Reminder
END:VALARM
END:VEVENT
END:VCALENDAR