BEGIN:VCALENDAR
PRODID:-//hacksw/handcal//NONSGML v1.0//EN
VERSION:2.0
METHOD:PUBLISH
BEGIN:VEVENT
DTSTART:20250213T130000Z
DTEND:20250213T150000Z
LOCATION:The Bristal Bethpage- 1075 Stewart Ave.- Bethpage, NY
UID:2606720250213T130000ZBreakfast Meeting- "Estate Planning for Loved Ones with Mental Health and/or Substance use Disorders"
DTSTAMP:20260425T174034Z
DESCRIPTION:\n \n \n \n \nPlease Note: 8:00am Start Time!!\n
SUMMARY:Breakfast Meeting- "Estate Planning for Loved Ones with Mental Health and/or Substance use Disorders" - Estate Planning Council of Long Island 
PRIORITY:3
BEGIN:VALARM
TRIGGER:PT18H
ACTION:DISPLAY
DESCRIPTION:Reminder
END:VALARM
END:VEVENT
END:VCALENDAR