BEGIN:VCALENDAR
PRODID:-//hacksw/handcal//NONSGML v1.0//EN
VERSION:2.0
METHOD:PUBLISH
BEGIN:VEVENT
DTSTART:20240919T213000Z
DTEND:20240920T000000Z
LOCATION:Volpe at Fox Hollow- 7725 Jericho Tpke., Woodbury, NY 11797
UID:2606220240919T213000ZDinner Meeting- "Powerful Trust Laws to Combat Future Uncertainties: The Need for Flexibility"
DTSTAMP:20260425T174647Z
DESCRIPTION:
SUMMARY:Dinner Meeting- "Powerful Trust Laws to Combat Future Uncertainties: The Need for Flexibility" - Estate Planning Council of Long Island 
PRIORITY:3
BEGIN:VALARM
TRIGGER:PT18H
ACTION:DISPLAY
DESCRIPTION:Reminder
END:VALARM
END:VEVENT
END:VCALENDAR