BEGIN:VCALENDAR
PRODID:-//hacksw/handcal//NONSGML v1.0//EN
VERSION:2.0
METHOD:PUBLISH
BEGIN:VEVENT
DTSTART:20241015T213000Z
DTEND:20241015T223000Z
LOCATION:Webinar
UID:2603420241015T213000ZSTUDY GROUP - Webinar - "Executive Benefits Strategies Every Estate Planner Must Know"
DTSTAMP:20260425T174544Z
DESCRIPTION:\nThis Webinar is a replay which was hosted by NAEPC and not a live event.  You will receive an email from admin@epclongisland.orgâ a few days before the Webinar with a link to access the Webinar.\n \nAny questions, please contact our Committee Chairperson:\n \nChristina Jonathan\n \ncjonathan@jaspanllp.com\n \n(516) 393-8267\n
SUMMARY:STUDY GROUP - Webinar - "Executive Benefits Strategies Every Estate Planner Must Know" - Estate Planning Council of Long Island 
PRIORITY:3
BEGIN:VALARM
TRIGGER:PT18H
ACTION:DISPLAY
DESCRIPTION:Reminder
END:VALARM
END:VEVENT
END:VCALENDAR