BEGIN:VCALENDAR
PRODID:-//hacksw/handcal//NONSGML v1.0//EN
VERSION:2.0
METHOD:PUBLISH
BEGIN:VEVENT
DTSTART:20240820T213000Z
DTEND:20240820T223000Z
LOCATION:ZOOM
UID:2603020240820T213000ZStudy Group- Webinar- "Special Needs and Elder Care Planning: How to Plan with an Eye Towards the Tax Considerations"
DTSTAMP:20260425T174958Z
DESCRIPTION:\nIf you wish to attend, please RSVP online at [www.epclongisland.org](https://na01.safelinks.protection.outlook.com/?url=http%3A%2F%2Fwww.epcnassau.org%2F&data=05%7C02%7C%7C9d97da0dae39401e47b508dc7f161c3b%7C84df9e7fe9f640afb435aaaaaaaaaaaa%7C1%7C0%7C638524980143641375%7CUnknown%7CTWFpbGZsb3d8eyJWIjoiMC4wLjAwMDAiLCJQIjoiV2luMzIiLCJBTiI6Ik1haWwiLCJXVCI6Mn0%3D%7C0%7C%7C%7C&sdata=985AoJ9DoCUuD8PAAN%2F0bCxfLplWaH8LDd69RFiDkeQ%3D&reserved=0) \n\n\n\n\n\n\n \n\n\n \n \nor to our Committee Chairperson:\n\n\n \n\n\n\n\n\n \n\n\n\n\n\n\n\n\nMichael P. Ryan, Esq.\n\n\n \n\n\n\n \n\n\n\n\nmpryan@jaspanllp.com\n\n\n\n\n \n\n\n\n\n\n\n\n\n   516-393-8253\n\n\n
SUMMARY:Study Group- Webinar- "Special Needs and Elder Care Planning: How to Plan with an Eye Towards the Tax Considerations" - Estate Planning Council of Long Island 
PRIORITY:3
BEGIN:VALARM
TRIGGER:PT18H
ACTION:DISPLAY
DESCRIPTION:Reminder
END:VALARM
END:VEVENT
END:VCALENDAR