BEGIN:VCALENDAR
PRODID:-//hacksw/handcal//NONSGML v1.0//EN
VERSION:2.0
METHOD:PUBLISH
BEGIN:VEVENT
DTSTART:20240612T213000Z
DTEND:20240613T000000Z
LOCATION:Cold Spring Harbor Laboratory- 1 Bungtown Rd, Cold Spring Harbor, NY 11724
UID:2599420240612T213000ZCocktail Social Reception
DTSTAMP:20260425T174717Z
DESCRIPTION:\nPlease Join Us for a Cocktail Social Reception on June 12th\n \n5:30 pm – 8:00 pm \n \n \n \n\n \n \n \n1 Bungtown Rd, Cold Spring Harbor, NY 11724\n \n516-367-8800\n \n \n \nThis social event is open to all Members. Feel free to bring a guest(s) who would qualify for membership \n \nunder our By-Laws.\n \nThis Event is Free to the Member and the Member Eligible Guest(s).\n \nDirections BELOW and on DOCUMENTS PAGE on website\n \nYou MUST RSVP online at \n \nwww.epclongisland.org\n
SUMMARY:Cocktail Social Reception - Estate Planning Council of Long Island 
PRIORITY:3
BEGIN:VALARM
TRIGGER:PT18H
ACTION:DISPLAY
DESCRIPTION:Reminder
END:VALARM
END:VEVENT
END:VCALENDAR