BEGIN:VCALENDAR
PRODID:-//hacksw/handcal//NONSGML v1.0//EN
VERSION:2.0
METHOD:PUBLISH
BEGIN:VEVENT
DTSTART:20240501T160000Z
DTEND:20240501T170000Z
LOCATION:ZOOM
UID:2551920240501T160000ZSpecial, Complimentary Live Webinar, co-hosted with the National Association of Insurance and Financial Professionals - Maximizing Wealth: The Importance of Coordinating Financial Assets with the Estate Plan
DTSTAMP:20260425T173535Z
DESCRIPTION:\nI\n \nComplimentary Webinar Co-hosted with the National Association of Insurance and Financial Advisors - Maximizing Wealth: The Importance of Coordinating Financial Assets with the Estate Plan\n \nWednesday, May 1, 2024\n \n12:00pm - 1:00pm ET\n \nSpeaker: Mary Vandenack, JD, ACTEC, COLPM, CAP®, AEP® (Distinguished)\n \nProgram Overview: This webinar will delve into the intricate relationship between financial assets and estate planning. Working with clients to effectively coordinate financial assets can assure that value is maximized and asset protection is enhanced. The webinar will review strategies to coordinate estate planning with various types of financial assets, including investments, real estate, retirement accounts, insurance, and other assets. We will discuss how to align financial assets with estate planning objectives.\n \nRegister [HERE](https://na01.safelinks.protection.outlook.com/?url=https%3A%2F%2Flinkprotect.cudasvc.com%2Furl%3Fa%3Dhttps%253a%252f%252fbelong.naifa.org%252fmaximizing-wealth%26c%3DE%2C1%2C-xOf25ua4LQfopWPvlFj4ccmbU_Fvz2U1Urx0Ao-rm4faK2uSeRCRTeV-skU1KfQK1tiwYEtsXzgTjF0v0ufTL2yEzRdMmvzk-Rdo7NUDc_v%26typo%3D1&data=05%7C02%7C%7C73e4c3df7dcc40d77d8708dc66c4a8aa%7C84df9e7fe9f640afb435aaaaaaaaaaaa%7C1%7C0%7C638498242031843842%7CUnknown%7CTWFpbGZsb3d8eyJWIjoiMC4wLjAwMDAiLCJQIjoiV2luMzIiLCJBTiI6Ik1haWwiLCJXVCI6Mn0%3D%7C0%7C%7C%7C&sdata=OobDyYLIOjx7Gek7sBhRRRsa%2F%2F3Q%2FrZCr28MhpfLb2k%3D&reserved=0).\n \n \n \n \n \n \n
SUMMARY:Special, Complimentary Live Webinar, co-hosted with the National Association of Insurance and Financial Professionals - Maximizing Wealth: The Importance of Coordinating Financial Assets with the Estate Plan - Estate Planning Council of Long Island 
PRIORITY:3
BEGIN:VALARM
TRIGGER:PT18H
ACTION:DISPLAY
DESCRIPTION:Reminder
END:VALARM
END:VEVENT
END:VCALENDAR