BEGIN:VCALENDAR
PRODID:-//hacksw/handcal//NONSGML v1.0//EN
VERSION:2.0
METHOD:PUBLISH
BEGIN:VEVENT
DTSTART:20240123T223000Z
DTEND:20240123T233000Z
LOCATION:ZOOM
UID:2551520240123T223000Z STUDY GROUP- Webinar: "The Practical Use of AI in Estate & Financial Planning"
DTSTAMP:20260425T173811Z
DESCRIPTION:\n \n \nDetails: Discover how AI can revolutionize estate planning for lawyers, optimizing efficiency, cutting costs, and enhancing representation quality. Uncover both the vast opportunities and ethical considerations, providing a clear roadmap for planners to responsibly and effectively integrate AI into their practices.\n \n \n \n \n \nIf you wish to attend, please RSVP online at [www.epclongisland.org](https://na01.safelinks.protection.outlook.com/?url=http%3A%2F%2Fwww.epcnassau.org%2F&data=05%7C02%7C%7Cb0d37c81c116444db61608dbfd7d8b34%7C84df9e7fe9f640afb435aaaaaaaaaaaa%7C1%7C0%7C638382487869648917%7CUnknown%7CTWFpbGZsb3d8eyJWIjoiMC4wLjAwMDAiLCJQIjoiV2luMzIiLCJBTiI6Ik1haWwiLCJXVCI6Mn0%3D%7C3000%7C%7C%7C&sdata=nuu5tgkEy0Tv%2Ba8Jgcg3rcZjqq9PcSZJ63BBfG0LmlI%3D&reserved=0) \n\n\n \n\n\n\n\n\n \nor to our Committee Chairperson:\n\n\n\n\n \n\n\n\n\nMichael P. Ryan, Esq.\n\n\n \n\n\nmpryan@jaspanllp.com\n\n\n \n\n\n\n \n\n\n\n \n\n\n   516-393-8253\n\n\n \n \n \n \n
SUMMARY: STUDY GROUP- Webinar: "The Practical Use of AI in Estate & Financial Planning" - Estate Planning Council of Long Island 
PRIORITY:3
BEGIN:VALARM
TRIGGER:PT18H
ACTION:DISPLAY
DESCRIPTION:Reminder
END:VALARM
END:VEVENT
END:VCALENDAR