BEGIN:VCALENDAR
PRODID:-//hacksw/handcal//NONSGML v1.0//EN
VERSION:2.0
METHOD:PUBLISH
BEGIN:VEVENT
DTSTART:20240425T120000Z
DTEND:20240425T140000Z
LOCATION:The Bristal Assisted Living, 1750 Stewart Avenue Bethpage, NY 11714
UID:2472520240425T120000ZBreakfast Meeting- "Surrogates'  Update"
DTSTAMP:20260425T172619Z
DESCRIPTION:\nPLEASE NOTE:\n \nBreakfast will begin early at 8:00 a.m.\n \nOur Program will begin at 9:00 a.m. sharp\n
SUMMARY:Breakfast Meeting- "Surrogates'  Update" - Estate Planning Council of Long Island 
PRIORITY:3
BEGIN:VALARM
TRIGGER:PT18H
ACTION:DISPLAY
DESCRIPTION:Reminder
END:VALARM
END:VEVENT
END:VCALENDAR