BEGIN:VCALENDAR
PRODID:-//hacksw/handcal//NONSGML v1.0//EN
VERSION:2.0
METHOD:PUBLISH
BEGIN:VEVENT
DTSTART:20240215T133000Z
DTEND:20240215T150000Z
LOCATION:Encore Luxury Living- Jericho, NY
UID:2472320240215T133000ZBreakfast Meeting- "Practical Considerations of Fiduciary Accountings"
DTSTAMP:20260425T172620Z
DESCRIPTION:
SUMMARY:Breakfast Meeting- "Practical Considerations of Fiduciary Accountings" - Estate Planning Council of Long Island 
PRIORITY:3
BEGIN:VALARM
TRIGGER:PT18H
ACTION:DISPLAY
DESCRIPTION:Reminder
END:VALARM
END:VEVENT
END:VCALENDAR