BEGIN:VCALENDAR
PRODID:-//hacksw/handcal//NONSGML v1.0//EN
VERSION:2.0
METHOD:PUBLISH
BEGIN:VEVENT
DTSTART:20240118T223000Z
DTEND:20240119T010000Z
LOCATION:The Mansion at Oyster Bay- One Southwoods Road, Woodbury, NY 11797
UID:2472220240118T223000ZDinner Meeting- "A Generation of Change in the Law of Wills and Trusts"
DTSTAMP:20260425T171958Z
DESCRIPTION:
SUMMARY:Dinner Meeting- "A Generation of Change in the Law of Wills and Trusts" - Estate Planning Council of Long Island 
PRIORITY:3
BEGIN:VALARM
TRIGGER:PT18H
ACTION:DISPLAY
DESCRIPTION:Reminder
END:VALARM
END:VEVENT
END:VCALENDAR