BEGIN:VCALENDAR
PRODID:-//hacksw/handcal//NONSGML v1.0//EN
VERSION:2.0
METHOD:PUBLISH
BEGIN:VEVENT
DTSTART:20231109T223000Z
DTEND:20231110T010000Z
LOCATION:Nassau County Bar Association- 15th & West Streets, Mineola, NY 11501
UID:2472020231109T223000ZDinner Meeting- "The Illusions of Life Insurance"
DTSTAMP:20260425T171916Z
DESCRIPTION:\nOur Moderator is Joseph T. La Ferlita, Esq.- Rivkin Radler\n \n \n \nPlease Note Meeting Location:\n \n \n \n[Nassau County Bar Association](https://na01.safelinks.protection.outlook.com/?url=https%3A%2F%2Fwww.bing.com%2Fck%2Fa%3F!%26%26p%3D09569d064bc803a4JmltdHM9MTY5ODcxMDQwMCZpZ3VpZD0xZjEwYzJiMC04NDFhLTZjMDgtMjUyNy1kMGIxODAxYTZhNDkmaW5zaWQ9NTUyNA%26ptn%3D3%26hsh%3D3%26fclid%3D1f10c2b0-841a-6c08-2527-d0b1801a6a49%26u%3Da1aHR0cHM6Ly93d3cuYmluZy5jb20vYWxpbmsvbGluaz91cmw9aHR0cHMlM2ElMmYlMmZ3d3cubmFzc2F1YmFyLm9yZyUyZiZzb3VyY2U9c2VycC1sb2NhbCZoPXlrRiUyYnVqTGpmdTVRVlN5SlV5b3pVR2wlMmJhdFBGTUc5ZWFSWUtEOGJzdG9BJTNkJnA9bHdfZ2J0JmlnPTZEMTE1MzYyMUI1QzRFOTM4RkYzMjUwMjNDNURFQ0I5JnlwaWQ9WU44NzN4MTE4Mjc1NzA5%26ntb%3D1&data=05%7C01%7C%7C02e48ba60aaa45d357c008dbda6de85e%7C84df9e7fe9f640afb435aaaaaaaaaaaa%7C1%7C0%7C638343938069233618%7CUnknown%7CTWFpbGZsb3d8eyJWIjoiMC4wLjAwMDAiLCJQIjoiV2luMzIiLCJBTiI6Ik1haWwiLCJXVCI6Mn0%3D%7C3000%7C%7C%7C&sdata=9wAs5xJHopGrhPQdTU6bwo6EkC3SXTbAcP8Vrwjh094%3D&reserved=0)\n \n[15th and West Streets, M](https://na01.safelinks.protection.outlook.com/?url=https%3A%2F%2Fwww.bing.com%2Fck%2Fa%3F!%26%26p%3De48cf5345b4dbe8cJmltdHM9MTY5ODcxMDQwMCZpZ3VpZD0xZjEwYzJiMC04NDFhLTZjMDgtMjUyNy1kMGIxODAxYTZhNDkmaW5zaWQ9NTUyNQ%26ptn%3D3%26hsh%3D3%26fclid%3D1f10c2b0-841a-6c08-2527-d0b1801a6a49%26u%3Da1L21hcHM_Jm1lcGk9MTA5fn5Ub3BPZlBhZ2V-QWRkcmVzc19MaW5rJnR5PTE4JnE9TmFzc2F1JTIwQ291bnR5JTIwQmFyJTIwQXNzb2NpYXRpb24mc3M9eXBpZC5ZTjg3M3gxMTgyNzU3MDkmcHBvaXM9NDAuNzM3NTU2NDU3NTE5NTNfLTczLjY0MDQ1NzE1MzMyMDMxX05hc3NhdSUyMENvdW50eSUyMEJhciUyMEFzc29jaWF0aW9uX1lOODczeDExODI3NTcwOX4mY3A9NDAuNzM3NTU2fi03My42NDA0NTcmdj0yJnNWPTEmRk9STT1NUFNSUEw%26ntb%3D1&data=05%7C01%7C%7C02e48ba60aaa45d357c008dbda6de85e%7C84df9e7fe9f640afb435aaaaaaaaaaaa%7C1%7C0%7C638343938069233618%7CUnknown%7CTWFpbGZsb3d8eyJWIjoiMC4wLjAwMDAiLCJQIjoiV2luMzIiLCJBTiI6Ik1haWwiLCJXVCI6Mn0%3D%7C3000%7C%7C%7C&sdata=lc9jmW3%2Byzx3HhQdYo4TSgowZ8nk726IrtQ7%2B84m0VE%3D&reserved=0)ineola, NY 11501\n
SUMMARY:Dinner Meeting- "The Illusions of Life Insurance" - Estate Planning Council of Long Island 
PRIORITY:3
BEGIN:VALARM
TRIGGER:PT18H
ACTION:DISPLAY
DESCRIPTION:Reminder
END:VALARM
END:VEVENT
END:VCALENDAR