BEGIN:VCALENDAR
PRODID:-//hacksw/handcal//NONSGML v1.0//EN
VERSION:2.0
METHOD:PUBLISH
BEGIN:VEVENT
DTSTART:20230921T213000Z
DTEND:20230922T000000Z
LOCATION:Volpe at Fox Hollow
UID:2468020230921T213000Z2023/2024 Kick-Off Dinner- "Goblins Lamentation List: Unscrambling “Installment Obligations”
DTSTAMP:20260425T172523Z
DESCRIPTION:
SUMMARY:2023/2024 Kick-Off Dinner- "Goblins Lamentation List: Unscrambling “Installment Obligations” - Estate Planning Council of Long Island 
PRIORITY:3
BEGIN:VALARM
TRIGGER:PT18H
ACTION:DISPLAY
DESCRIPTION:Reminder
END:VALARM
END:VEVENT
END:VCALENDAR