BEGIN:VCALENDAR
PRODID:-//hacksw/handcal//NONSGML v1.0//EN
VERSION:2.0
METHOD:PUBLISH
BEGIN:VEVENT
DTSTART:20230324T130000Z
LOCATION:ZOOM
UID:2413720230324T130000ZTown Hall Discussion- Proposed Merger of Nassau and Suffolk Estate Planning Councils
DTSTAMP:20260425T174657Z
DESCRIPTION:\nPlease take a moment to RSVP so we can get an idea of potential attendees.\n \nDear Council Members,\n\n\n \nPlease attend our Town Hall discussion on March 24, 2023 at 9 a.m. to discuss the proposed merger of the Estate Planning Council of Nassau County and the Estate Planning Council of Suffolk County.\n\n\n \nAll members are encouraged to attend to ask questions and discuss the future of the Long Island Estate Planning Council.  We look forward to seeing you! \n\n\n \nSincerely,\n\n\n \nElisa M. Pickel\n\n\n \nPresident \n\n\n
SUMMARY:Town Hall Discussion- Proposed Merger of Nassau and Suffolk Estate Planning Councils - Estate Planning Council of Long Island 
PRIORITY:3
BEGIN:VALARM
TRIGGER:PT18H
ACTION:DISPLAY
DESCRIPTION:Reminder
END:VALARM
END:VEVENT
END:VCALENDAR