BEGIN:VCALENDAR
PRODID:-//hacksw/handcal//NONSGML v1.0//EN
VERSION:2.0
METHOD:PUBLISH
BEGIN:VEVENT
DTSTART:20231219T223000Z
DTEND:20231219T233000Z
LOCATION:ZOOM
UID:2407320231219T223000ZSTUDY GROUP- Webinar: "International Tax Concerns for High Net Worth Individuals"
DTSTAMP:20260425T174544Z
DESCRIPTION:\nThe next virtual EPCLI Study Group will be Tuesday, Dec. 19, 2023, at 5:30 PM. Topic: "International Tax Concerns for High Net Worth Individuals"\n \n \n \nDetails: This intermediate session will address some key issues that High Net Worth individuals with cross border assets encounter. We will speak about cross border tax implications of various asset structures including the impact of Foreign tax credits, the foreign tax credit limitation rules and the recent foreign tax credit regulations. We will also address some of the key challenges of US High Net Worth Individuals living overseas.\n \n \n \nSpeaker: Chaya Siegfried is a Lead partner in the International Tax Services group at Withum. Chaya has extensive experience in working with High Net Worth Individuals planning and structuring their cross border assets and addressing the related compliance needs. She is an expert in Foreign Tax Credit, Controlled Foreign Corporations, Passive Foreign Investment Companies and cross border trusts.\n \n \n \nIf you wish to attend, please RSVP online at [www.epcnassau.org](https://na01.safelinks.protection.outlook.com/?url=http%3A%2F%2Fwww.epcnassau.org%2F&data=05%7C01%7C%7C06a471580af34d7117b908db1413f0a2%7C84df9e7fe9f640afb435aaaaaaaaaaaa%7C1%7C0%7C638125848093609098%7CUnknown%7CTWFpbGZsb3d8eyJWIjoiMC4wLjAwMDAiLCJQIjoiV2luMzIiLCJBTiI6Ik1haWwiLCJXVCI6Mn0%3D%7C3000%7C%7C%7C&sdata=OpSWh1YY3Iz2bpIBzWaBAgdm1xN6IjL3%2FGME%2BzbcHmg%3D&reserved=0) \n\n\n\n\n \nor to our Committee Chairperson:\n\n\n\n\n\n\n \n\n\n\n\nMichael P. Ryan, Esq.\n\n\n \n\n\n\n \nmpryan@jaspanllp.com\n\n\n\n\n \n\n\n\n\n\n\n   516-393-8253\n\n\n
SUMMARY:STUDY GROUP- Webinar: "International Tax Concerns for High Net Worth Individuals" - Estate Planning Council of Long Island 
PRIORITY:3
BEGIN:VALARM
TRIGGER:PT18H
ACTION:DISPLAY
DESCRIPTION:Reminder
END:VALARM
END:VEVENT
END:VCALENDAR