BEGIN:VCALENDAR
PRODID:-//hacksw/handcal//NONSGML v1.0//EN
VERSION:2.0
METHOD:PUBLISH
BEGIN:VEVENT
DTSTART:20230216T133000Z
DTEND:20230216T150000Z
LOCATION:Encore Luxury Living and ZOOM
UID:2396920230216T133000ZBreakfast Meeting- "U.S. 2023 Outlook and Economic Overview" 
DTSTAMP:20260425T175412Z
DESCRIPTION:\nModerator: Elisa Pickel, Esq., Managing Director, Trust Counsel - Estate Settlement at Fiduciary Trust International\n \n \n
SUMMARY:Breakfast Meeting- "U.S. 2023 Outlook and Economic Overview"  - Estate Planning Council of Long Island 
PRIORITY:3
BEGIN:VALARM
TRIGGER:PT18H
ACTION:DISPLAY
DESCRIPTION:Reminder
END:VALARM
END:VEVENT
END:VCALENDAR