BEGIN:VCALENDAR
PRODID:-//hacksw/handcal//NONSGML v1.0//EN
VERSION:2.0
METHOD:PUBLISH
BEGIN:VEVENT
DTSTART:20221213T223000Z
DTEND:20221213T233000Z
LOCATION:ZOOM
UID:2372120221213T223000ZSTUDY GROUP- Webinar- "Webinar: Estate Planning Paralysis: Getting Your Clients to Act in 2023'
DTSTAMP:20260425T172012Z
DESCRIPTION:\nDetails: When evaluating tax, estate, and philanthropic planning advice, many clients often find themselves paralyzed from taking any action. How do you determine the optimal solutions to address your clients’ needs, communicate sophisticated planning strategies in a manner that is easy to understand, and motivate a client to implement those strategies? This seminar provides concrete methods for you to help clients move beyond anxiety and confusion and take action—even in an environment of ongoing market volatility and economic uncertainty.\n \nIf you wish to attend, please RSVP online at [www.epcnassau.org](https://na01.safelinks.protection.outlook.com/?url=http%3A%2F%2Fwww.epcnassau.org%2F&data=05%7C01%7C%7C3ba11fee65fc4d172df308dad252fe48%7C84df9e7fe9f640afb435aaaaaaaaaaaa%7C1%7C0%7C638053551132027581%7CUnknown%7CTWFpbGZsb3d8eyJWIjoiMC4wLjAwMDAiLCJQIjoiV2luMzIiLCJBTiI6Ik1haWwiLCJXVCI6Mn0%3D%7C3000%7C%7C%7C&sdata=0ZxYLUpzkD%2BurXdFRr8nElW4LdTubGwkQjdiAMcEysY%3D&reserved=0)  \n\n\n\n\n \nor to our Committee Chairperson:\n\n\n\n\n\n\n \n\n\n\n\nMichael P. Ryan, Esq.\n\n\n \n\n\n\n \nmpryan@jaspanllp.com\n\n\n\n\n \n\n\n\n\n\n\n   516-393-8253\n\n\n
SUMMARY:STUDY GROUP- Webinar- "Webinar: Estate Planning Paralysis: Getting Your Clients to Act in 2023' - Estate Planning Council of Long Island 
PRIORITY:3
BEGIN:VALARM
TRIGGER:PT18H
ACTION:DISPLAY
DESCRIPTION:Reminder
END:VALARM
END:VEVENT
END:VCALENDAR