BEGIN:VCALENDAR
PRODID:-//hacksw/handcal//NONSGML v1.0//EN
VERSION:2.0
METHOD:PUBLISH
BEGIN:VEVENT
DTSTART:20230425T213000Z
DTEND:20230425T223000Z
LOCATION:Jaspan Schlesinger Narendran LLP 300 Garden City Plaza, 5th Floor Garden City, New York 11530 or ZOOM
UID:2350920230425T213000ZSTUDY GROUP- "Your Clients Want a KISS Plan, but the IRS May Have the Last Dance—Planning for Simplicity and Tax Efficiency, for Clients who May Not Have to Pay Estate Tax"
DTSTAMP:20260425T172749Z
DESCRIPTION:\nApril’s  Study Group will be live!\n \nFor the first time in years, we will gather at the offices of Jaspan Schlesinger & Narendran LLP to view the webinar.  \n \nWe should be able to do this in a hybrid format where members could participate in person or virtually from home or office. \n \n \n \n \n \n \n \nIf you wish to attend, please RSVP online at [www.epcnassau.org](https://nam12.safelinks.protection.outlook.com/?url=http%3A%2F%2Fwww.epcnassau.org%2F&data=05%7C01%7C%7C79f47140a1f44f0ed62608da373c027d%7C84df9e7fe9f640afb435aaaaaaaaaaaa%7C1%7C0%7C637883028125084701%7CUnknown%7CTWFpbGZsb3d8eyJWIjoiMC4wLjAwMDAiLCJQIjoiV2luMzIiLCJBTiI6Ik1haWwiLCJXVCI6Mn0%3D%7C3000%7C%7C%7C&sdata=70190bJibVtMOeLZYvR8mhzpptC24HzJjEy7gHzJXvA%3D&reserved=0) \n\n\n \nor to our Committee Chairperson:\n\n\n\n\n \n\n\n\n\nMichael P. Ryan, Esq.\n\n\n \nmpryan@jaspanllp.com\n\n\n \n\n\n\n\n\n\n   516-393-8253\n
SUMMARY:STUDY GROUP- "Your Clients Want a KISS Plan, but the IRS May Have the Last Dance—Planning for Simplicity and Tax Efficiency, for Clients who May Not Have to Pay Estate Tax" - Estate Planning Council of Long Island 
PRIORITY:3
BEGIN:VALARM
TRIGGER:PT18H
ACTION:DISPLAY
DESCRIPTION:Reminder
END:VALARM
END:VEVENT
END:VCALENDAR