BEGIN:VCALENDAR
PRODID:-//hacksw/handcal//NONSGML v1.0//EN
VERSION:2.0
METHOD:PUBLISH
BEGIN:VEVENT
DTSTART:20230523T220000Z
DTEND:20230524T020000Z
LOCATION:Crescent Beach Club- Bayville, NY
UID:2335320230523T220000ZAnnual Officers' Conferment Dinner
DTSTAMP:20260425T173811Z
DESCRIPTION:
SUMMARY:Annual Officers' Conferment Dinner - Estate Planning Council of Long Island 
PRIORITY:3
BEGIN:VALARM
TRIGGER:PT18H
ACTION:DISPLAY
DESCRIPTION:Reminder
END:VALARM
END:VEVENT
END:VCALENDAR