BEGIN:VCALENDAR
PRODID:-//hacksw/handcal//NONSGML v1.0//EN
VERSION:2.0
METHOD:PUBLISH
BEGIN:VEVENT
DTSTART:20230420T123000Z
DTEND:20230420T140000Z
LOCATION:Encore Luxury Living and ZOOM
UID:2315320230420T123000ZBreakfast Meeting- "Nassau County Surrogates Court, Spring 2023 Updates”
DTSTAMP:20260425T174037Z
DESCRIPTION:\nMeeting Materials Link:\n \n[https://www.dropbox.com/s/c2zlzdcvqkrpm9t/Nassau%20EPC%20April%2020%20Meeting%20Attachments.pdf?dl=0](https://na01.safelinks.protection.outlook.com/?url=https%3A%2F%2Fwww.dropbox.com%2Fs%2Fc2zlzdcvqkrpm9t%2FNassau%2520EPC%2520April%252020%2520Meeting%2520Attachments.pdf%3Fdl%3D0&data=05%7C01%7C%7C0cef14f496ab4825241208db3c2583c9%7C84df9e7fe9f640afb435aaaaaaaaaaaa%7C1%7C0%7C638169904058891576%7CUnknown%7CTWFpbGZsb3d8eyJWIjoiMC4wLjAwMDAiLCJQIjoiV2luMzIiLCJBTiI6Ik1haWwiLCJXVCI6Mn0%3D%7C3000%7C%7C%7C&sdata=1%2BFhiV5AP%2BdEv%2BtpnVrM649PcXzM43LS1Ui8jx2YZQw%3D&reserved=0)\n
SUMMARY:Breakfast Meeting- "Nassau County Surrogates Court, Spring 2023 Updates” - Estate Planning Council of Long Island 
PRIORITY:3
BEGIN:VALARM
TRIGGER:PT18H
ACTION:DISPLAY
DESCRIPTION:Reminder
END:VALARM
END:VEVENT
END:VCALENDAR