BEGIN:VCALENDAR
PRODID:-//hacksw/handcal//NONSGML v1.0//EN
VERSION:2.0
METHOD:PUBLISH
BEGIN:VEVENT
DTSTART:20230307T223000Z
DTEND:20230308T010000Z
LOCATION:Volpe at Fox Hollow and ZOOM
UID:2315220230307T223000ZDinner Meeting- “What the Cool Kids are Doing in Estate Planning”
DTSTAMP:20260425T171731Z
DESCRIPTION:\nNote the Meeting Date:\n \nTuesday, March 7, 2023\n \nPlease Note:\n \nThis is a joint meeting with our colleagues at the\n \nSuffolk County Estate Planning Council.\n \nIt will be a great networking opportunity.\n \n \n \n \n
SUMMARY:Dinner Meeting- “What the Cool Kids are Doing in Estate Planning” - Estate Planning Council of Long Island 
PRIORITY:3
BEGIN:VALARM
TRIGGER:PT18H
ACTION:DISPLAY
DESCRIPTION:Reminder
END:VALARM
END:VEVENT
END:VCALENDAR