BEGIN:VCALENDAR
PRODID:-//hacksw/handcal//NONSGML v1.0//EN
VERSION:2.0
METHOD:PUBLISH
BEGIN:VEVENT
DTSTART:20220922T213000Z
DTEND:20220923T000000Z
LOCATION:Volpe at The Fox Hollow and ZOOM
UID:2312720220922T213000ZKICK-OFF Dinner Meeting- "How Generational Differences May Impact Estate Planning and Trust Administration"
DTSTAMP:20260425T174324Z
DESCRIPTION:\nZOOM Link to Follow.\n
SUMMARY:KICK-OFF Dinner Meeting- "How Generational Differences May Impact Estate Planning and Trust Administration" - Estate Planning Council of Long Island 
PRIORITY:3
BEGIN:VALARM
TRIGGER:PT18H
ACTION:DISPLAY
DESCRIPTION:Reminder
END:VALARM
END:VEVENT
END:VCALENDAR