BEGIN:VCALENDAR
PRODID:-//hacksw/handcal//NONSGML v1.0//EN
VERSION:2.0
METHOD:PUBLISH
BEGIN:VEVENT
DTSTART:20230119T223000Z
DTEND:20230120T010000Z
LOCATION:Volpe at The Fox Hollow and ZOOM
UID:2312420230119T223000ZDinner Meeting- "Top Ten Estate Planning Lessons from Recently Deceased Celebrities"
DTSTAMP:20260425T175412Z
DESCRIPTION:\nZOOM Starts at 6:30 p.m.\n
SUMMARY:Dinner Meeting- "Top Ten Estate Planning Lessons from Recently Deceased Celebrities" - Estate Planning Council of Long Island 
PRIORITY:3
BEGIN:VALARM
TRIGGER:PT18H
ACTION:DISPLAY
DESCRIPTION:Reminder
END:VALARM
END:VEVENT
END:VCALENDAR