BEGIN:VCALENDAR
PRODID:-//hacksw/handcal//NONSGML v1.0//EN
VERSION:2.0
METHOD:PUBLISH
BEGIN:VEVENT
DTSTART:20221215T133000Z
DTEND:20221215T150000Z
LOCATION:Encore Luxury Living Jericho and ZOOM
UID:2312320221215T133000ZBreakfast Meeting- “Elder Care in 2023: The Intersection of Estate and Medicaid Planning”
DTSTAMP:20260425T173107Z
DESCRIPTION:
SUMMARY:Breakfast Meeting- “Elder Care in 2023: The Intersection of Estate and Medicaid Planning” - Estate Planning Council of Long Island 
PRIORITY:3
BEGIN:VALARM
TRIGGER:PT18H
ACTION:DISPLAY
DESCRIPTION:Reminder
END:VALARM
END:VEVENT
END:VCALENDAR