BEGIN:VCALENDAR
PRODID:-//hacksw/handcal//NONSGML v1.0//EN
VERSION:2.0
METHOD:PUBLISH
BEGIN:VEVENT
DTSTART:20221110T223000Z
DTEND:20221111T010000Z
LOCATION:Westbury Manor and ZOOM
UID:2312220221110T223000ZDinner Meeting- “Flexible Beneficiary Trusts: Reducing Income Tax on Non-Grantor Trusts”
DTSTAMP:20260425T172944Z
DESCRIPTION:\nZOOM Link below.\n
SUMMARY:Dinner Meeting- “Flexible Beneficiary Trusts: Reducing Income Tax on Non-Grantor Trusts” - Estate Planning Council of Long Island 
PRIORITY:3
BEGIN:VALARM
TRIGGER:PT18H
ACTION:DISPLAY
DESCRIPTION:Reminder
END:VALARM
END:VEVENT
END:VCALENDAR