BEGIN:VCALENDAR
PRODID:-//hacksw/handcal//NONSGML v1.0//EN
VERSION:2.0
METHOD:PUBLISH
BEGIN:VEVENT
DTSTART:20221020T123000Z
DTEND:20221020T140000Z
LOCATION:Encore Luxury Living- Jericho and ZOOM
UID:2312020221020T123000ZBreakfast Meeting- “Understanding Life Insurance & the Responsibility of the Conversation”
DTSTAMP:20260425T174307Z
DESCRIPTION:\nOur Moderators are Elisa Pickel, Esq. and Richard G. Chalifoux J.D, AEP®\n \n \n \n \n
SUMMARY:Breakfast Meeting- “Understanding Life Insurance & the Responsibility of the Conversation” - Estate Planning Council of Long Island 
PRIORITY:3
BEGIN:VALARM
TRIGGER:PT18H
ACTION:DISPLAY
DESCRIPTION:Reminder
END:VALARM
END:VEVENT
END:VCALENDAR