BEGIN:VCALENDAR
PRODID:-//hacksw/handcal//NONSGML v1.0//EN
VERSION:2.0
METHOD:PUBLISH
BEGIN:VEVENT
DTSTART:20221227T223000Z
DTEND:20221227T233000Z
LOCATION:ZOOM
UID:2269120221227T223000ZSTUDY GROUP- Webinar: "Special Needs Planning – Planning for  Beneficiaries and Clients with  Disabilities"
DTSTAMP:20260425T173952Z
DESCRIPTION:\nDetails:   Elizabeth Forspan, Esq. of Forspan Klear, LLP, a New York-based Estate Planning and Elder Law firm, will discuss the various aspects of planning for those with disabilities as well as planning for clients with family members who are disabled and in receipt of government benefits.  The lecture will include a discussion of Supplemental Needs Trusts and the taxation of such trusts.  Elizabeth will also review important information regarding guardianship and conservatorship proceedings as well as planning with advance directives.\n \n \n \n \n \nIf you wish to attend, please RSVP online at [www.epcnassau.org](https://nam12.safelinks.protection.outlook.com/?url=http%3A%2F%2Fwww.epcnassau.org%2F&data=05%7C01%7C%7C79f47140a1f44f0ed62608da373c027d%7C84df9e7fe9f640afb435aaaaaaaaaaaa%7C1%7C0%7C637883028125084701%7CUnknown%7CTWFpbGZsb3d8eyJWIjoiMC4wLjAwMDAiLCJQIjoiV2luMzIiLCJBTiI6Ik1haWwiLCJXVCI6Mn0%3D%7C3000%7C%7C%7C&sdata=70190bJibVtMOeLZYvR8mhzpptC24HzJjEy7gHzJXvA%3D&reserved=0)  \n\n\n \nor to our Committee Chairperson:\n\n\n\n\n \n\n\n\n\nMichael P. Ryan, Esq.\n\n\n \nmpryan@jaspanllp.com\n\n\n \n\n\n\n\n\n\n   516-393-8253\n\n\n
SUMMARY:STUDY GROUP- Webinar: "Special Needs Planning – Planning for  Beneficiaries and Clients with  Disabilities" - Estate Planning Council of Long Island 
PRIORITY:3
BEGIN:VALARM
TRIGGER:PT18H
ACTION:DISPLAY
DESCRIPTION:Reminder
END:VALARM
END:VEVENT
END:VCALENDAR