BEGIN:VCALENDAR
PRODID:-//hacksw/handcal//NONSGML v1.0//EN
VERSION:2.0
METHOD:PUBLISH
BEGIN:VEVENT
DTSTART:20221129T223000Z
DTEND:20221129T233000Z
LOCATION:ZOOM
UID:2269020221129T223000ZSTUDY GROUP- Webinar: "Spousal Trusts: Opportunities and Pitfalls"  
DTSTAMP:20260425T174528Z
DESCRIPTION:\nDetails: The increased estate and gift tax exemption amount (now $12,060,000 per person) has radically expanded wealth transfer and income tax planning options. But what first appears simple quickly becomes complex. Clients may be tempted to overutilize the expanded exemption amount. Perhaps they consider making large gifts to trusts for the benefit of children, assuming those children will “play ball” should Mom & Dad ever need the money back. Or maybe they read about so-called Spousal Life Access Trusts (SLATs) that eliminate the pain of gifting. Gifts to irrevocable trusts can be powerful, but there are many traps for the unwary that may frustrate wealth transfer goals, transforming a “simple” plan into a disaster. This presentation will cover select estate tax and income tax considerations of for inter vivos trusts created for the benefit of a spouse, focusing on spotting key opportunities while noting the pitfalls that often go unnoticed.\n \n            Matt  is a partner with the Orange County, California law firm of Brown & Streza LLP. Matt heads the firm’s Tax, Trusts, & Estates Group and its Ultra-High-Net-Worth subgroup. He represents business owners and philanthropists in personal planning, business succession planning, and charitable planning. Matt is a Fellow of the American College of Trust and Estate Counsel (ACTEC) and a former adjunct professor of law at University of California, Irvine School of Law.\n \n \n \nIf you wish to attend, please RSVP online at [www.epcnassau.org](https://nam12.safelinks.protection.outlook.com/?url=http%3A%2F%2Fwww.epcnassau.org%2F&data=05%7C01%7C%7C79f47140a1f44f0ed62608da373c027d%7C84df9e7fe9f640afb435aaaaaaaaaaaa%7C1%7C0%7C637883028125084701%7CUnknown%7CTWFpbGZsb3d8eyJWIjoiMC4wLjAwMDAiLCJQIjoiV2luMzIiLCJBTiI6Ik1haWwiLCJXVCI6Mn0%3D%7C3000%7C%7C%7C&sdata=70190bJibVtMOeLZYvR8mhzpptC24HzJjEy7gHzJXvA%3D&reserved=0)  \n\n\n \nor to our Committee Chairperson:\n\n\n\n\n \n\n\n\n\nMichael P. Ryan, Esq.\n\n\n \nmpryan@jaspanllp.com\n\n\n \n\n\n\n\n\n\n   516-393-8253\n\n\n
SUMMARY:STUDY GROUP- Webinar: "Spousal Trusts: Opportunities and Pitfalls"   - Estate Planning Council of Long Island 
PRIORITY:3
BEGIN:VALARM
TRIGGER:PT18H
ACTION:DISPLAY
DESCRIPTION:Reminder
END:VALARM
END:VEVENT
END:VCALENDAR