BEGIN:VCALENDAR
PRODID:-//hacksw/handcal//NONSGML v1.0//EN
VERSION:2.0
METHOD:PUBLISH
BEGIN:VEVENT
DTSTART:20221025T213000Z
DTEND:20221025T223000Z
LOCATION:ZOOM
UID:2268920221025T213000ZSTUDY GROUP- Webinar: "Family Matters: How Business-Owning Families Can Work Together for a Unified Future"
DTSTAMP:20260425T174226Z
DESCRIPTION:\nDetails: Claudia B. Sangster is an independent consultant specializing in financial education, family decision-making, and relationships around money and wealth. Claudia collaborates with clients, their advisors in identifying and establishing appropriate educational programs and governance structures for multi-generational families in order to prepare family members to steward the wealth, to enhance family unity and to help sustain all aspects of the family’s capital—financial, intellectual, human and social.  She works with families to create their legacy of wisdom, wealth and giving through multiple generations.\n \nClaudia earned a Bachelor’s degree, Summa Cum Laude, from Pepperdine University, and a JD, Magna Cum Laude, from the University of Houston, College of Law.\n \nClaudia is a Founding Partner of Social Venture Partners in Los Angeles, Board Chair Emeritus of the Associated Women for Pepperdine, former Board member of the Prostate Cancer Research Institute of Los Angeles, Advisory Board member Emeritus of the Preston Robert Tisch Brain Tumor Center at Duke University Medical Center and Chairperson of the Board of Trustees of the Nicholas Endowment.\n \n \n \nIf you wish to attend, please RSVP online at [www.epcnassau.org](https://na01.safelinks.protection.outlook.com/?url=http%3A%2F%2Fwww.epcnassau.org%2F&data=04%7C01%7C%7C85077effdbec494ee91708d9f6098b87%7C84df9e7fe9f640afb435aaaaaaaaaaaa%7C1%7C0%7C637811343122087728%7CUnknown%7CTWFpbGZsb3d8eyJWIjoiMC4wLjAwMDAiLCJQIjoiV2luMzIiLCJBTiI6Ik1haWwiLCJXVCI6Mn0%3D%7C3000&sdata=1lxILOSLXU5HjzfMDnqFIULSEX15%2BIi%2FEXq0bpn%2BmrI%3D&reserved=0) \n \nor to our Committee Chairperson:\n\n\n \nMichael P. Ryan, Esq.\n \nmpryan@jaspanllp.com \n \n516-393-8253\n \n \n
SUMMARY:STUDY GROUP- Webinar: "Family Matters: How Business-Owning Families Can Work Together for a Unified Future" - Estate Planning Council of Long Island 
PRIORITY:3
BEGIN:VALARM
TRIGGER:PT18H
ACTION:DISPLAY
DESCRIPTION:Reminder
END:VALARM
END:VEVENT
END:VCALENDAR