BEGIN:VCALENDAR
PRODID:-//hacksw/handcal//NONSGML v1.0//EN
VERSION:2.0
METHOD:PUBLISH
BEGIN:VEVENT
DTSTART:20220726T213000Z
DTEND:20220726T223000Z
LOCATION:ZOOM
UID:2268520220726T213000ZSTUDY GROUP- Webinar- "Rewirement: Rewiring the Way You Think About Retirement"
DTSTAMP:20260425T174037Z
DESCRIPTION:\nIf you wish to attend, please RSVP online at [www.epcnassau.org](https://na01.safelinks.protection.outlook.com/?url=http%3A%2F%2Fwww.epcnassau.org%2F&data=04%7C01%7C%7C85077effdbec494ee91708d9f6098b87%7C84df9e7fe9f640afb435aaaaaaaaaaaa%7C1%7C0%7C637811343122087728%7CUnknown%7CTWFpbGZsb3d8eyJWIjoiMC4wLjAwMDAiLCJQIjoiV2luMzIiLCJBTiI6Ik1haWwiLCJXVCI6Mn0%3D%7C3000&sdata=1lxILOSLXU5HjzfMDnqFIULSEX15%2BIi%2FEXq0bpn%2BmrI%3D&reserved=0)  \n \nor to our Committee Chairperson:\n\n\n \nMichael P. Ryan, Esq.\n \nmpryan@jaspanllp.com\n \n\n\n   516-393-8253\n \n\n\n\n \n \n \n \n \n \n
SUMMARY:STUDY GROUP- Webinar- "Rewirement: Rewiring the Way You Think About Retirement" - Estate Planning Council of Long Island 
PRIORITY:3
BEGIN:VALARM
TRIGGER:PT18H
ACTION:DISPLAY
DESCRIPTION:Reminder
END:VALARM
END:VEVENT
END:VCALENDAR