BEGIN:VCALENDAR
PRODID:-//hacksw/handcal//NONSGML v1.0//EN
VERSION:2.0
METHOD:PUBLISH
BEGIN:VEVENT
DTSTART:20220531T213000Z
DTEND:20220531T223000Z
LOCATION:ZOOM
UID:2268220220531T213000ZSTUDY GROUP: Webinar- “Do's and Don'ts of Estate Planning for Millennials” 
DTSTAMP:20260425T174454Z
DESCRIPTION:\nIf you wish to attend, please RSVP online at [www.epcnassau.org](https://nam12.safelinks.protection.outlook.com/?url=http%3A%2F%2Fwww.epcnassau.org%2F&data=05%7C01%7C%7C8b341b50ef864919eb0d08da220271a8%7C84df9e7fe9f640afb435aaaaaaaaaaaa%7C1%7C0%7C637859691145101103%7CUnknown%7CTWFpbGZsb3d8eyJWIjoiMC4wLjAwMDAiLCJQIjoiV2luMzIiLCJBTiI6Ik1haWwiLCJXVCI6Mn0%3D%7C3000%7C%7C%7C&sdata=zmWcWQ5X5Hvm1Ztkz8wH8tnggkVPYgZjN3T5ZyBBc%2F0%3D&reserved=0)  \n \nor to our Committee Chairperson:\n\n\n \n\n\n\n\n\n \nMichael P. Ryan, Esq.\n \nmpryan@jaspanllp.com\n \n\n\n\n \n\n\n\n \n\n\n   516-393-8253\n\n\n \n \n \n \n
SUMMARY:STUDY GROUP: Webinar- “Do's and Don'ts of Estate Planning for Millennials”  - Estate Planning Council of Long Island 
PRIORITY:3
BEGIN:VALARM
TRIGGER:PT18H
ACTION:DISPLAY
DESCRIPTION:Reminder
END:VALARM
END:VEVENT
END:VCALENDAR