BEGIN:VCALENDAR
PRODID:-//hacksw/handcal//NONSGML v1.0//EN
VERSION:2.0
METHOD:PUBLISH
BEGIN:VEVENT
DTSTART:20220405T213000Z
DTEND:20220406T003000Z
LOCATION:Encore Luxury Living- Jericho, NY
UID:2246320220405T213000ZNetworking Event- "Sip, Stretch & Swing into Spring"
DTSTAMP:20260425T173526Z
DESCRIPTION:\n \n \n \n \nWe hope everyone can join us for a night of fun!\n \nConnect with old colleagues and create new connections at this casual Spring event in collaboration with The Estate Planning Council of Suffolk County, Inc. and The Financial Planning Association of Long Island.\n \n \n
SUMMARY:Networking Event- "Sip, Stretch & Swing into Spring" - Estate Planning Council of Long Island 
PRIORITY:3
BEGIN:VALARM
TRIGGER:PT18H
ACTION:DISPLAY
DESCRIPTION:Reminder
END:VALARM
END:VEVENT
END:VCALENDAR