BEGIN:VCALENDAR
PRODID:-//hacksw/handcal//NONSGML v1.0//EN
VERSION:2.0
METHOD:PUBLISH
BEGIN:VEVENT
DTSTART:20220426T213000Z
DTEND:20220426T223000Z
LOCATION:ZOOM
UID:2206020220426T213000ZSTUDY GROUP Webinar: "Ten Ways to Protect Your Client's Digital Assets"
DTSTAMP:20260425T171738Z
DESCRIPTION:\nIf you wish to attend, please RSVP online at [www.epcnassau.org](https://na01.safelinks.protection.outlook.com/?url=http%3A%2F%2Fwww.epcnassau.org%2F&data=04%7C01%7C%7C123603833b354fb78cc908d9f321a719%7C84df9e7fe9f640afb435aaaaaaaaaaaa%7C1%7C0%7C637808148127762600%7CUnknown%7CTWFpbGZsb3d8eyJWIjoiMC4wLjAwMDAiLCJQIjoiV2luMzIiLCJBTiI6Ik1haWwiLCJXVCI6Mn0%3D%7C3000&sdata=uV62gCGF0WoefvGbJJZWXdbkwoVq9fdt2heHB%2BQiYC0%3D&reserved=0)  or to our Committee Chairperson:\n\n\n\n\n\n\n \n\n\n \n \n\n\nMichael P. Ryan, Esq.\n\n\n \n\n\n\n \n\n\n\n\n      516-393-8253\n\n\n
SUMMARY:STUDY GROUP Webinar: "Ten Ways to Protect Your Client's Digital Assets" - Estate Planning Council of Long Island 
PRIORITY:3
BEGIN:VALARM
TRIGGER:PT18H
ACTION:DISPLAY
DESCRIPTION:Reminder
END:VALARM
END:VEVENT
END:VCALENDAR